BEGIN:VCALENDAR
VERSION:2.0
PRODID:-//DABKE - ECPv6.15.20//NONSGML v1.0//EN
CALSCALE:GREGORIAN
METHOD:PUBLISH
X-WR-CALNAME:DABKE
X-ORIGINAL-URL:https://dabke.es
X-WR-CALDESC:Eventos para DABKE
REFRESH-INTERVAL;VALUE=DURATION:PT1H
X-Robots-Tag:noindex
X-PUBLISHED-TTL:PT1H
BEGIN:VTIMEZONE
TZID:Europe/Madrid
BEGIN:DAYLIGHT
TZOFFSETFROM:+0100
TZOFFSETTO:+0200
TZNAME:CEST
DTSTART:20250330T010000
END:DAYLIGHT
BEGIN:STANDARD
TZOFFSETFROM:+0200
TZOFFSETTO:+0100
TZNAME:CET
DTSTART:20251026T010000
END:STANDARD
BEGIN:DAYLIGHT
TZOFFSETFROM:+0100
TZOFFSETTO:+0200
TZNAME:CEST
DTSTART:20260329T010000
END:DAYLIGHT
BEGIN:STANDARD
TZOFFSETFROM:+0200
TZOFFSETTO:+0100
TZNAME:CET
DTSTART:20261025T010000
END:STANDARD
BEGIN:DAYLIGHT
TZOFFSETFROM:+0100
TZOFFSETTO:+0200
TZNAME:CEST
DTSTART:20270328T010000
END:DAYLIGHT
BEGIN:STANDARD
TZOFFSETFROM:+0200
TZOFFSETTO:+0100
TZNAME:CET
DTSTART:20271031T010000
END:STANDARD
END:VTIMEZONE
BEGIN:VEVENT
DTSTART;TZID=Europe/Madrid:20260506T190000
DTEND;TZID=Europe/Madrid:20260506T210000
DTSTAMP:20260421T115456
CREATED:20260419T224319Z
LAST-MODIFIED:20260419T232947Z
UID:6713-1778094000-1778101200@dabke.es
SUMMARY:Sevilla- Taller de Dabke
DESCRIPTION:Taller de Dabke – Todas las edades. Impartido por el profesor palestino Mahmud (Gaza)\n25 €/mes \nLugar de impartición: Casa Grande del Pumarejo\nPlaza del Pumarejo\, 3. Sevilla\nCómo llegar\nReserva plaza: contacta por Whats App al 646 770 832
URL:https://dabke.es/evento/sevilla-taller-de-dabke-06-mayo/
ATTACH;FMTTYPE=image/jpeg:https://dabke.es/wp-content/uploads/2026/04/cartel-taller-dabke-pumarejo-definitivo-web.jpg
END:VEVENT
BEGIN:VEVENT
DTSTART;TZID=Europe/Madrid:20260513T190000
DTEND;TZID=Europe/Madrid:20260513T210000
DTSTAMP:20260421T115456
CREATED:20260419T225145Z
LAST-MODIFIED:20260419T232958Z
UID:6733-1778698800-1778706000@dabke.es
SUMMARY:Sevilla- Taller de Dabke
DESCRIPTION:Taller de Dabke – Todas las edades. Impartido por el profesor palestino Mahmud (Gaza)\n25 €/mes \nLugar de impartición: Casa Grande del Pumarejo\nPlaza del Pumarejo\, 3. Sevilla\nCómo llegar\nReserva plaza: contacta por Whats App al 646 770 832
URL:https://dabke.es/evento/sevilla-taller-de-dabke-13-mayo/
ATTACH;FMTTYPE=image/jpeg:https://dabke.es/wp-content/uploads/2026/04/cartel-taller-dabke-pumarejo-definitivo-web.jpg
END:VEVENT
BEGIN:VEVENT
DTSTART;TZID=Europe/Madrid:20260520T190000
DTEND;TZID=Europe/Madrid:20260520T210000
DTSTAMP:20260421T115456
CREATED:20260419T224814Z
LAST-MODIFIED:20260419T233008Z
UID:6721-1779303600-1779310800@dabke.es
SUMMARY:Sevilla- Taller de Dabke
DESCRIPTION:Taller de Dabke – Todas las edades. Impartido por el profesor palestino Mahmud (Gaza)\n25 €/mes \nLugar de impartición: Casa Grande del Pumarejo\nPlaza del Pumarejo\, 3. Sevilla\nCómo llegar\nReserva plaza: contacta por Whats App al 646 770 832
URL:https://dabke.es/evento/sevilla-taller-de-dabke-20-mayo/
ATTACH;FMTTYPE=image/jpeg:https://dabke.es/wp-content/uploads/2026/04/cartel-taller-dabke-pumarejo-definitivo-web.jpg
END:VEVENT
BEGIN:VEVENT
DTSTART;TZID=Europe/Madrid:20260527T190000
DTEND;TZID=Europe/Madrid:20260527T210000
DTSTAMP:20260421T115456
CREATED:20260419T225020Z
LAST-MODIFIED:20260419T233017Z
UID:6723-1779908400-1779915600@dabke.es
SUMMARY:Sevilla- Taller de Dabke
DESCRIPTION:Taller de Dabke – Todas las edades. Impartido por el profesor palestino Mahmud (Gaza)\n25 €/mes \nLugar de impartición: Casa Grande del Pumarejo\nPlaza del Pumarejo\, 3. Sevilla\nCómo llegar\nReserva plaza: contacta por Whats App al 646 770 832
URL:https://dabke.es/evento/sevilla-taller-de-dabke-27-mayo/
ATTACH;FMTTYPE=image/jpeg:https://dabke.es/wp-content/uploads/2026/04/cartel-taller-dabke-pumarejo-definitivo-web.jpg
END:VEVENT
BEGIN:VEVENT
DTSTART;TZID=Europe/Madrid:20260603T190000
DTEND;TZID=Europe/Madrid:20260603T210000
DTSTAMP:20260421T115456
CREATED:20260419T225033Z
LAST-MODIFIED:20260419T233045Z
UID:6725-1780513200-1780520400@dabke.es
SUMMARY:Sevilla- Taller de Dabke
DESCRIPTION:Taller de Dabke – Todas las edades. Impartido por el profesor palestino Mahmud (Gaza)\n25 €/mes \nLugar de impartición: Casa Grande del Pumarejo\nPlaza del Pumarejo\, 3. Sevilla\nCómo llegar\nReserva plaza: contacta por Whats App al 646 770 832
URL:https://dabke.es/evento/sevilla-taller-de-dabke-03-junio/
ATTACH;FMTTYPE=image/jpeg:https://dabke.es/wp-content/uploads/2026/04/cartel-taller-dabke-pumarejo-definitivo-web.jpg
END:VEVENT
BEGIN:VEVENT
DTSTART;TZID=Europe/Madrid:20260610T190000
DTEND;TZID=Europe/Madrid:20260610T210000
DTSTAMP:20260421T115456
CREATED:20260419T225044Z
LAST-MODIFIED:20260419T233058Z
UID:6727-1781118000-1781125200@dabke.es
SUMMARY:Sevilla- Taller de Dabke
DESCRIPTION:Taller de Dabke – Todas las edades. Impartido por el profesor palestino Mahmud (Gaza)\n25 €/mes \nLugar de impartición: Casa Grande del Pumarejo\nPlaza del Pumarejo\, 3. Sevilla\nCómo llegar\nReserva plaza: contacta por Whats App al 646 770 832
URL:https://dabke.es/evento/sevilla-taller-de-dabke-10-junio/
ATTACH;FMTTYPE=image/jpeg:https://dabke.es/wp-content/uploads/2026/04/cartel-taller-dabke-pumarejo-definitivo-web.jpg
END:VEVENT
BEGIN:VEVENT
DTSTART;TZID=Europe/Madrid:20260617T190000
DTEND;TZID=Europe/Madrid:20260617T210000
DTSTAMP:20260421T115456
CREATED:20260419T225441Z
LAST-MODIFIED:20260419T233108Z
UID:6736-1781722800-1781730000@dabke.es
SUMMARY:Sevilla- Taller de Dabke
DESCRIPTION:Taller de Dabke – Todas las edades. Impartido por el profesor palestino Mahmud (Gaza)\n25 €/mes \nLugar de impartición: Casa Grande del Pumarejo\nPlaza del Pumarejo\, 3. Sevilla\nCómo llegar\nReserva plaza: contacta por Whats App al 646 770 832
URL:https://dabke.es/evento/sevilla-taller-de-dabke-17-junio/
ATTACH;FMTTYPE=image/jpeg:https://dabke.es/wp-content/uploads/2026/04/cartel-taller-dabke-pumarejo-definitivo-web.jpg
END:VEVENT
BEGIN:VEVENT
DTSTART;TZID=Europe/Madrid:20260624T190000
DTEND;TZID=Europe/Madrid:20260624T210000
DTSTAMP:20260421T115456
CREATED:20260419T225452Z
LAST-MODIFIED:20260419T233122Z
UID:6738-1782327600-1782334800@dabke.es
SUMMARY:Sevilla- Taller de Dabke
DESCRIPTION:Taller de Dabke – Todas las edades. Impartido por el profesor palestino Mahmud (Gaza)\n25 €/mes \nLugar de impartición: Casa Grande del Pumarejo\nPlaza del Pumarejo\, 3. Sevilla\nCómo llegar\nReserva plaza: contacta por Whats App al 646 770 832
URL:https://dabke.es/evento/sevilla-taller-de-dabke-24-junio/
ATTACH;FMTTYPE=image/jpeg:https://dabke.es/wp-content/uploads/2026/04/cartel-taller-dabke-pumarejo-definitivo-web.jpg
END:VEVENT
END:VCALENDAR