BEGIN:VCALENDAR
VERSION:2.0
PRODID:-//DABKE - ECPv6.15.20//NONSGML v1.0//EN
CALSCALE:GREGORIAN
METHOD:PUBLISH
X-ORIGINAL-URL:https://dabke.es
X-WR-CALDESC:Eventos para DABKE
REFRESH-INTERVAL;VALUE=DURATION:PT1H
X-Robots-Tag:noindex
X-PUBLISHED-TTL:PT1H
BEGIN:VTIMEZONE
TZID:Europe/Madrid
BEGIN:DAYLIGHT
TZOFFSETFROM:+0100
TZOFFSETTO:+0200
TZNAME:CEST
DTSTART:20230326T010000
END:DAYLIGHT
BEGIN:STANDARD
TZOFFSETFROM:+0200
TZOFFSETTO:+0100
TZNAME:CET
DTSTART:20231029T010000
END:STANDARD
BEGIN:DAYLIGHT
TZOFFSETFROM:+0100
TZOFFSETTO:+0200
TZNAME:CEST
DTSTART:20240331T010000
END:DAYLIGHT
BEGIN:STANDARD
TZOFFSETFROM:+0200
TZOFFSETTO:+0100
TZNAME:CET
DTSTART:20241027T010000
END:STANDARD
BEGIN:DAYLIGHT
TZOFFSETFROM:+0100
TZOFFSETTO:+0200
TZNAME:CEST
DTSTART:20250330T010000
END:DAYLIGHT
BEGIN:STANDARD
TZOFFSETFROM:+0200
TZOFFSETTO:+0100
TZNAME:CET
DTSTART:20251026T010000
END:STANDARD
BEGIN:DAYLIGHT
TZOFFSETFROM:+0100
TZOFFSETTO:+0200
TZNAME:CEST
DTSTART:20260329T010000
END:DAYLIGHT
BEGIN:STANDARD
TZOFFSETFROM:+0200
TZOFFSETTO:+0100
TZNAME:CET
DTSTART:20261025T010000
END:STANDARD
END:VTIMEZONE
BEGIN:VEVENT
DTSTART;TZID=Europe/Madrid:20250524T200000
DTEND;TZID=Europe/Madrid:20250524T211500
DTSTAMP:20260425T051035
CREATED:20250503T221109Z
LAST-MODIFIED:20250521T085139Z
UID:5683-1748116800-1748121300@dabke.es
SUMMARY:Doble Espectáculo de Dabke y Teatro - Sevilla
DESCRIPTION:Teatro TNT/Atalaya | A partir de las 18.30 se abrirán las puertas al público. Disponemos de ambigú donde podrás tomar té y dulces palestinos – El centro se cerrará a las 22.30\, tras la cena y convivencia con los artistas. \nmás información Talleres de Dabke
URL:https://dabke.es/evento/dabke-y-teatro-sevilla/
ATTACH;FMTTYPE=image/jpeg:https://dabke.es/wp-content/uploads/2025/05/espectaculo-teatro-y-dabke.jpg
END:VEVENT
BEGIN:VEVENT
DTSTART;TZID=Europe/Madrid:20250522T193000
DTEND;TZID=Europe/Madrid:20250522T210000
DTSTAMP:20260425T051035
CREATED:20250505T071256Z
LAST-MODIFIED:20250515T102633Z
UID:5889-1747942200-1747947600@dabke.es
SUMMARY:Sevilla- Taller de Dabke (Nivel 3)
DESCRIPTION:Taller de Dabke – Nivel 3. Impartido por el profesor de danza y coreógrafo palestino Mohammad Deeb \nEspectáculo Dabke + Teatro Calendario Talleres Dabke\n\nLugar de impartición: Local Solidaridad Internacional Andalucía\nCalle Juan Antonio Cavestany\, 20a\, 41018 Sevilla\nCómo llegar
URL:https://dabke.es/evento/sevilla-taller-de-dabke-3/
ATTACH;FMTTYPE=image/jpeg:https://dabke.es/wp-content/uploads/2025/05/taller-dabke-4.jpg
END:VEVENT
BEGIN:VEVENT
DTSTART;TZID=Europe/Madrid:20250521T193000
DTEND;TZID=Europe/Madrid:20250521T210000
DTSTAMP:20260425T051035
CREATED:20250505T071254Z
LAST-MODIFIED:20250515T102638Z
UID:5891-1747855800-1747861200@dabke.es
SUMMARY:Sevilla- Taller de Dabke (Nivel 2)
DESCRIPTION:Taller de Dabke – Nivel 2. Impartido por el profesor de danza y coreógrafo palestino Mohammad Deeb \nEspectáculo Dabke + Teatro Calendario Talleres Dabke\n\nLugar de impartición: Local Solidaridad Internacional Andalucía\nCalle Juan Antonio Cavestany\, 20a\, 41018 Sevilla\nCómo llegar
URL:https://dabke.es/evento/sevilla-taller-de-dabke-2/
ATTACH;FMTTYPE=image/jpeg:https://dabke.es/wp-content/uploads/2025/05/taller-dabke-4.jpg
END:VEVENT
BEGIN:VEVENT
DTSTART;TZID=Europe/Madrid:20250520T193000
DTEND;TZID=Europe/Madrid:20250520T210000
DTSTAMP:20260425T051035
CREATED:20250505T070932Z
LAST-MODIFIED:20250515T102614Z
UID:5877-1747769400-1747774800@dabke.es
SUMMARY:Sevilla- Taller de Dabke (Nivel 1)
DESCRIPTION:Taller de Dabke – Nivel 1. Impartido por el profesor de danza y coreógrafo palestino Mohammad Deeb \nEspectáculo Dabke + Teatro Calendario Talleres Dabke\nLugar de impartición: Local Solidaridad Internacional Andalucía\nCalle Juan Antonio Cavestany\, 20a\, 41018 Sevilla\nCómo llegar
URL:https://dabke.es/evento/sevilla-taller-de-dabke/
ATTACH;FMTTYPE=image/jpeg:https://dabke.es/wp-content/uploads/2025/05/taller-dabke-4.jpg
END:VEVENT
BEGIN:VEVENT
DTSTART;TZID=Europe/Madrid:20250430T173000
DTEND;TZID=Europe/Madrid:20250430T190000
DTSTAMP:20260425T051035
CREATED:20250410T160621Z
LAST-MODIFIED:20250410T160737Z
UID:5494-1746034200-1746039600@dabke.es
SUMMARY:Laila y Ane - Dabke - Sevilla
DESCRIPTION:FILA CERO\nDabke Laila y Ane\nEsta página web es exclusiva para todo aquella persona que quiera aportar a La Comunidad Palestina de Sevilla. \nIMPORTANTE: la adquisición de la fila cero no da derecho al acceso al evento. Se trata de una aportación totalmente desinteresada. \nNota: Si no sabes exactamente cómo llegaste hasta aquí pero tu intención es acudir a los talleres\, ponte en contacto con Laila por Instagram \n 
URL:https://dabke.es/evento/laila-y-ane-dabke-sevilla/
ATTACH;FMTTYPE=image/jpeg:https://dabke.es/wp-content/uploads/2025/04/laila-ane.jpg
END:VEVENT
BEGIN:VEVENT
DTSTART;TZID=Europe/Madrid:20250307T203000
DTEND;TZID=Europe/Madrid:20250307T223000
DTSTAMP:20260425T051035
CREATED:20250304T171334Z
LAST-MODIFIED:20250304T194528Z
UID:5430-1741379400-1741386600@dabke.es
SUMMARY:Por Amal - Sevilla
DESCRIPTION:FILA CERO\nPor Amal\nUn canto de amor catártico a Líbano y Palestina. \nEsta página web es exclusiva para todo aquella persona que no pueda asistir al evento y quiera aportar a La Comunidad Palestina de Sevilla. \nIMPORTANTE: la adquisición de estas entradas no da derecho al acceso al evento. Se trata de una aportación totalmente desinteresada. \nNota: Si no sabes exactamente cómo llegaste hasta aquí pero tu intención es comprar entradas para asistir al evento\, visita este enlace. \n 
URL:https://dabke.es/evento/por-amal-sevilla/
ATTACH;FMTTYPE=image/png:https://dabke.es/wp-content/uploads/2025/03/fila-cero.png
END:VEVENT
BEGIN:VEVENT
DTSTART;TZID=Europe/Madrid:20241208T120000
DTEND;TZID=Europe/Madrid:20241208T130000
DTSTAMP:20260425T051035
CREATED:20241106T001729Z
LAST-MODIFIED:20241111T161827Z
UID:3007-1733659200-1733662800@dabke.es
SUMMARY:Madrid - Taller de Dabke
DESCRIPTION:Hora de inicio: 12.00 \nmás información
URL:https://dabke.es/evento/madrid-taller-de-dabke/
ATTACH;FMTTYPE=image/jpeg:https://dabke.es/wp-content/uploads/2024/11/taller-dabke-1.jpg
END:VEVENT
BEGIN:VEVENT
DTSTART;TZID=Europe/Madrid:20241207T193000
DTEND;TZID=Europe/Madrid:20241207T210000
DTSTAMP:20260425T051035
CREATED:20241106T001549Z
LAST-MODIFIED:20241111T162634Z
UID:3005-1733599800-1733605200@dabke.es
SUMMARY:Madrid - Danza y cante de Dabke
DESCRIPTION:Sala Marcelino Camacho \nmás información\ncompra tus entradas
URL:https://dabke.es/evento/madrid-danza-y-cante-de-dabke/
ATTACH;FMTTYPE=image/jpeg:https://dabke.es/wp-content/uploads/2024/11/madrid-cartel.jpg
END:VEVENT
BEGIN:VEVENT
DTSTART;TZID=Europe/Madrid:20241205T193000
DTEND;TZID=Europe/Madrid:20241205T204500
DTSTAMP:20260425T051035
CREATED:20241108T204327Z
LAST-MODIFIED:20241118T154319Z
UID:3516-1733427000-1733431500@dabke.es
SUMMARY:Jerez - Danza y cante de Dabke y Flamenco
DESCRIPTION:más información
URL:https://dabke.es/evento/jerez-danza-y-cante-de-dabke-y-flamenco/
ATTACH;FMTTYPE=image/jpeg:https://dabke.es/wp-content/uploads/2024/11/jerez-cartel.jpg
END:VEVENT
BEGIN:VEVENT
DTSTART;TZID=Europe/Madrid:20241205T170000
DTEND;TZID=Europe/Madrid:20241205T183000
DTSTAMP:20260425T051035
CREATED:20241108T205619Z
LAST-MODIFIED:20241117T221428Z
UID:3526-1733418000-1733423400@dabke.es
SUMMARY:Jerez - Taller de Dabke
DESCRIPTION:más información
URL:https://dabke.es/evento/jerez-taller-de-dabke/
ATTACH;FMTTYPE=image/jpeg:https://dabke.es/wp-content/uploads/2024/11/taller-dabke-1.jpg
END:VEVENT
BEGIN:VEVENT
DTSTART;TZID=Europe/Madrid:20241204T200000
DTEND;TZID=Europe/Madrid:20241204T213000
DTSTAMP:20260425T051035
CREATED:20241109T015031Z
LAST-MODIFIED:20241111T212452Z
UID:3594-1733342400-1733347800@dabke.es
SUMMARY:Cádiz - Danza y cante de Dabke y Flamenco
DESCRIPTION:Centro Municipal de Arte Flamenco La Merced | \nmás información
URL:https://dabke.es/evento/cadiz-danza-y-cante-de-dabke-y-flamenco/
ATTACH;FMTTYPE=image/jpeg:https://dabke.es/wp-content/uploads/2024/11/cadiz-cartel.jpeg
END:VEVENT
BEGIN:VEVENT
DTSTART;TZID=Europe/Madrid:20241203T180000
DTEND;TZID=Europe/Madrid:20241203T193000
DTSTAMP:20260425T051035
CREATED:20241109T023045Z
LAST-MODIFIED:20241119T125137Z
UID:3615-1733248800-1733254200@dabke.es
SUMMARY:Cádiz - Taller de Dabke
DESCRIPTION:Centro Municipal de Arte Flamenco La Merced | Aportación: 15 € (reserva solo en este mail: tallercadiz@dabke.es) \nmás información
URL:https://dabke.es/evento/cadiz-taller-de-dabke/
ATTACH;FMTTYPE=image/jpeg:https://dabke.es/wp-content/uploads/2024/11/taller-dabke-1.jpg
END:VEVENT
BEGIN:VEVENT
DTSTART;TZID=Europe/Madrid:20241202T193000
DTEND;TZID=Europe/Madrid:20241202T213000
DTSTAMP:20260425T051035
CREATED:20240507T150516Z
LAST-MODIFIED:20241129T165353Z
UID:1371-1733167800-1733175000@dabke.es
SUMMARY:Sevilla - Danza y cante de Dabke y Flamenco
DESCRIPTION:Teatro TNT/Atalaya | A partir de las 18.30 se abrirán las puertas al público. Disponemos de ambigú donde podrás tomar té y comida palestina (dulce y salada) – El centro se cerrará a las 22.30\, tras los cena y convivencia con los artistas. \nmás información
URL:https://dabke.es/evento/sevilla-danza-y-cante-de-dabke-y-flamenco/
ATTACH;FMTTYPE=image/jpeg:https://dabke.es/wp-content/uploads/2024/11/sevilla-cartel-difusion-web.jpg
END:VEVENT
BEGIN:VEVENT
DTSTART;TZID=Europe/Madrid:20241130T183000
DTEND;TZID=Europe/Madrid:20241130T200000
DTSTAMP:20260425T051035
CREATED:20241105T231719Z
LAST-MODIFIED:20241120T145259Z
UID:2928-1732991400-1732996800@dabke.es
SUMMARY:Astigarraga - Danza y cante de Dabke
DESCRIPTION:Astigarragako Erribera Kultur Etxea \nmás información
URL:https://dabke.es/evento/astigarraga-dabke/
ATTACH;FMTTYPE=image/jpeg:https://dabke.es/wp-content/uploads/2024/11/astigarraga-dabke.jpg
END:VEVENT
BEGIN:VEVENT
DTSTART;TZID=Europe/Madrid:20241130T120000
DTEND;TZID=Europe/Madrid:20241130T130000
DTSTAMP:20260425T051035
CREATED:20241124T232432Z
LAST-MODIFIED:20241124T232432Z
UID:4610-1732968000-1732971600@dabke.es
SUMMARY:Hondarribia - Taller de Dabke
DESCRIPTION:Hora de inicio: 12.00 \nmás información
URL:https://dabke.es/evento/hondarribia-taller-de-dabke/
ATTACH;FMTTYPE=image/jpeg:https://dabke.es/wp-content/uploads/2024/11/taller-dabke-1.jpg
END:VEVENT
BEGIN:VEVENT
DTSTART;TZID=Europe/Madrid:20241129T200000
DTEND;TZID=Europe/Madrid:20241129T213000
DTSTAMP:20260425T051035
CREATED:20241105T131915Z
LAST-MODIFIED:20241123T123103Z
UID:2869-1732910400-1732915800@dabke.es
SUMMARY:Hondarribia - Danza y cante de Dabke
DESCRIPTION:Itsas Etxea Auditoriuma | Sarrera librea / Entrada libre \nmás información
URL:https://dabke.es/evento/hondarribia-danza-y-cante-de-dabke/
ATTACH;FMTTYPE=image/jpeg:https://dabke.es/wp-content/uploads/2024/11/hondarribia-cartel-1.jpg
END:VEVENT
BEGIN:VEVENT
DTSTART;TZID=Europe/Madrid:20241128T193000
DTEND;TZID=Europe/Madrid:20241128T210000
DTSTAMP:20260425T051035
CREATED:20241108T172742Z
LAST-MODIFIED:20241111T162626Z
UID:3482-1732822200-1732827600@dabke.es
SUMMARY:Barcelona - Danza y cante de Dabke
DESCRIPTION:Calabria 6 | Entrada 15 € \nmás información\ncompra tus entradas
URL:https://dabke.es/evento/barcelona-danza-y-cante-de-dabke-2/
ATTACH;FMTTYPE=image/jpeg:https://dabke.es/wp-content/uploads/2024/11/barcelona-dabke.jpg
END:VEVENT
BEGIN:VEVENT
DTSTART;TZID=Europe/Madrid:20241127T193000
DTEND;TZID=Europe/Madrid:20241127T210000
DTSTAMP:20260425T051035
CREATED:20241108T172609Z
LAST-MODIFIED:20241111T162616Z
UID:3480-1732735800-1732741200@dabke.es
SUMMARY:Barcelona - Danza y cante de Dabke
DESCRIPTION:Calabria 6 | Entrada 15 € \nmás información\ncompra tus entradas
URL:https://dabke.es/evento/barcelona-danza-y-cante-de-dabke/
ATTACH;FMTTYPE=image/jpeg:https://dabke.es/wp-content/uploads/2024/11/barcelona-dabke.jpg
END:VEVENT
BEGIN:VEVENT
DTSTART;TZID=Europe/Madrid:20241126T200000
DTEND;TZID=Europe/Madrid:20241126T213000
DTSTAMP:20260425T051035
CREATED:20241108T173126Z
LAST-MODIFIED:20241120T095654Z
UID:3484-1732651200-1732656600@dabke.es
SUMMARY:Girona - Danza y cante de Dabke
DESCRIPTION:Teatre Municipal de Girona | Taquilla inversa \nmás información
URL:https://dabke.es/evento/barcelona-danza-y-cante-de-dabke-3/
ATTACH;FMTTYPE=image/jpeg:https://dabke.es/wp-content/uploads/2024/11/gerona-dabke-md.jpg
END:VEVENT
BEGIN:VEVENT
DTSTART;TZID=Europe/Madrid:20241115T193000
DTEND;TZID=Europe/Madrid:20241115T220000
DTSTAMP:20260425T051035
CREATED:20241106T105313Z
LAST-MODIFIED:20241110T233636Z
UID:3056-1731699000-1731708000@dabke.es
SUMMARY:Jerez - Por Amal
DESCRIPTION:Espectáculo benéfico para Gaza | Sala Compañía \n\nApertura de puertas: 19.30\nInicio espectáculo: 20.00\nColoquio: 21.15\nDirección: Plaza Compañía s/n\, Jerez\nCómo llegar
URL:https://dabke.es/evento/por-amal/
ATTACH;FMTTYPE=image/jpeg:https://dabke.es/wp-content/uploads/2024/11/por-amal.jpg
END:VEVENT
END:VCALENDAR